BEGIN:VCALENDAR
VERSION:2.0
PRODID:-//Algarven Suomi-seura - ECPv6.15.20//NONSGML v1.0//EN
CALSCALE:GREGORIAN
METHOD:PUBLISH
X-ORIGINAL-URL:https://algarvensuomiseura.fi
X-WR-CALDESC:Tapahtumat Algarven Suomi-seura
REFRESH-INTERVAL;VALUE=DURATION:PT1H
X-Robots-Tag:noindex
X-PUBLISHED-TTL:PT1H
BEGIN:VTIMEZONE
TZID:Europe/Lisbon
BEGIN:DAYLIGHT
TZOFFSETFROM:+0000
TZOFFSETTO:+0100
TZNAME:WEST
DTSTART:20230326T010000
END:DAYLIGHT
BEGIN:STANDARD
TZOFFSETFROM:+0100
TZOFFSETTO:+0000
TZNAME:WET
DTSTART:20231029T010000
END:STANDARD
BEGIN:DAYLIGHT
TZOFFSETFROM:+0000
TZOFFSETTO:+0100
TZNAME:WEST
DTSTART:20240331T010000
END:DAYLIGHT
BEGIN:STANDARD
TZOFFSETFROM:+0100
TZOFFSETTO:+0000
TZNAME:WET
DTSTART:20241027T010000
END:STANDARD
BEGIN:DAYLIGHT
TZOFFSETFROM:+0000
TZOFFSETTO:+0100
TZNAME:WEST
DTSTART:20250330T010000
END:DAYLIGHT
BEGIN:STANDARD
TZOFFSETFROM:+0100
TZOFFSETTO:+0000
TZNAME:WET
DTSTART:20251026T010000
END:STANDARD
END:VTIMEZONE
BEGIN:VEVENT
DTSTART;TZID=Europe/Lisbon:20241213T160000
DTEND;TZID=Europe/Lisbon:20241213T180000
DTSTAMP:20260424T121934
CREATED:20241118T190413Z
LAST-MODIFIED:20241219T180459Z
UID:13518-1734105600-1734112800@algarvensuomiseura.fi
SUMMARY:Perinteinen Joulukirkko
DESCRIPTION:Tervetuloa perinteiseen Joulukirkkoon ja yhteislaulutilaisuuteen Amparon kirkkoon\, Paróquia de Nossa Senhora do Amparo – Portimão \nPastori Rolf Steffansson ja kanttori Hannes Asikainen Suomen Merimieskirkosta Espanjan aurinkorannikolta saapuvat ja pitämään jumalanpalveluksen ja johtamaan yhteislaulutilaisuuden. \nTilaisuuteen on kaikilla vapaa pääsy. \n  \nTilaisuuden jälkeen tarjolla on kirkkokahvit seuran toimistolla \nRua do Quinta do Bispo\, Edifício Crisfer\, Loja 2 R/C\, 8500-729 Portimão. Sisäänkäynti kadun Avenida 25 Abril puolelta talojen välistä kulkien. \nKirkkoon ei tarvitse ilmoittautua\, mutta jos tulet kahville tapahtuman jälkeen niin ilmoitathan siitä sähköpostilla osoitteeseen geral@algarvensuomiseura.fi viimeistään 7.12.
URL:https://algarvensuomiseura.fi/tapahtuma/perinteinen-joulukirkko/
LOCATION:Amparon kirkko\, R. Nossa Sra. do Amparo\, Portimão\, 8500-610\, Portugal
CATEGORIES:Seuran tapahtuma
END:VEVENT
END:VCALENDAR