BEGIN:VCALENDAR
VERSION:2.0
PRODID:-//Algarven Suomi-seura - ECPv6.15.20//NONSGML v1.0//EN
CALSCALE:GREGORIAN
METHOD:PUBLISH
X-WR-CALNAME:Algarven Suomi-seura
X-ORIGINAL-URL:https://algarvensuomiseura.fi
X-WR-CALDESC:Tapahtumat Algarven Suomi-seura
REFRESH-INTERVAL;VALUE=DURATION:PT1H
X-Robots-Tag:noindex
X-PUBLISHED-TTL:PT1H
BEGIN:VTIMEZONE
TZID:Europe/Lisbon
BEGIN:DAYLIGHT
TZOFFSETFROM:+0000
TZOFFSETTO:+0100
TZNAME:WEST
DTSTART:20240331T010000
END:DAYLIGHT
BEGIN:STANDARD
TZOFFSETFROM:+0100
TZOFFSETTO:+0000
TZNAME:WET
DTSTART:20241027T010000
END:STANDARD
BEGIN:DAYLIGHT
TZOFFSETFROM:+0000
TZOFFSETTO:+0100
TZNAME:WEST
DTSTART:20250330T010000
END:DAYLIGHT
BEGIN:STANDARD
TZOFFSETFROM:+0100
TZOFFSETTO:+0000
TZNAME:WET
DTSTART:20251026T010000
END:STANDARD
BEGIN:DAYLIGHT
TZOFFSETFROM:+0000
TZOFFSETTO:+0100
TZNAME:WEST
DTSTART:20260329T010000
END:DAYLIGHT
BEGIN:STANDARD
TZOFFSETFROM:+0100
TZOFFSETTO:+0000
TZNAME:WET
DTSTART:20261025T010000
END:STANDARD
END:VTIMEZONE
BEGIN:VEVENT
DTSTART;TZID=Europe/Lisbon:20250219T130000
DTEND;TZID=Europe/Lisbon:20250219T163000
DTSTAMP:20260423T203310
CREATED:20250129T131352Z
LAST-MODIFIED:20250129T151316Z
UID:15750-1739970000-1739982600@algarvensuomiseura.fi
SUMMARY:Helmikuun kuukausilounas Vilamourassa
DESCRIPTION:Helmikuun kuukausilounas on Vilamourassa hotelli VILA GALÉ AMPALIUKSESSA\, ravintola Versatilissa keskiviikkona 19.2. kello 13. \nMervi Matalamäki kertoo 1990-luvun alkuajoista\, kun suomalaisia alkoi tulla Algarveen ja Jorma Vesterinen vuodesta 2008 eteenpäin. Harto Räty kertoo Quarteira-Vilamoura alueen muuttumisesta kalastajakylästä nykypäivään. \nLounas on runsaasta buffet-pöydästä viineineen ja muine ruokajuomineen. Hinta on 28 €\, ja se maksetaan 15.2. mennessä seuran tilille. IBAN: PT50 0033 0000 0007 8287 8280 5 \nKasinon vastakkaisella puolella katua on kyltti parkkipaikalle\, joka on ilmainen. Siitä on noin 5 minuutin kävely hotelli Vila Galé Ampaliukseen\, osoite Alameda Praia da Marina. \nIlmoittaudu alla olevalla lomakkeella 15.2. mennessä. Huom. jokaisen on täytettävä oma kaavake. \nTervetuloa mielenkiintoisen ohjelman\, hyvän seuran ja hyvän ruoan pariin!\n	Huomautus: JavaScript vaaditaan tätä sisältöä varten.
URL:https://algarvensuomiseura.fi/tapahtuma/helmikuun-kuukausilounas-vilamourassa/
LOCATION:Hotel Vila Galé Ampalius\, Alameda Praia da Marina\, Vilamoura\, Portugal
END:VEVENT
BEGIN:VEVENT
DTSTART;TZID=Europe/Lisbon:20250226T073000
DTEND;TZID=Europe/Lisbon:20250226T180000
DTSTAMP:20260423T203310
CREATED:20250125T110442Z
LAST-MODIFIED:20250216T183300Z
UID:15674-1740555000-1740592800@algarvensuomiseura.fi
SUMMARY:Korkkiretki
DESCRIPTION:Portugali on maailman suurin korkin tuottaja\, mutta korkista tehdään paljon muutakin kuin viinipullon korkkeja. 26.2. lähdetään São Bras Alporteliin Vesa Kainun johdolla oppimaan kaikki korkkipuista ja korkin käytöstä. \nKohteemme on Eco-Fábrica de Cortiça Francisco Carrusca\, korkkitehdas\, jossa on myös museo. Näemme mielenkiintoisen videon korkkipuista ja korkkiteollisuudesta. Kävelemme korkkitehtaassa katselemassa\,  kuinka työntekijät työstävät korkkia eri tarkoituksiin. Sen jälkeen käydään korkkikaupassa\, jossa on tavanomaisten tuotteiden lisäksi mm. huonekaluja. Lopuksi maistellaan vielä paikallisia makeisia ja liköörejä. \nYhteinen lounas syödään jossakin São Brás Alportelin ravintolassa. \nKuten aina\, lagoslaisilla on aikainen herätys. Bussin täytyy lähteä Lagosista klo 7.30\, jotta ollaan perillä São Bras Alportelissa klo 10. Bussin tarkempi aikataulu eri pysäkeillä lähetetään ilmoittautuneille. Bussipysäkeille ilmoittaudutaan Tapahtumakalenterin etusivulla. \nMatkan hinta on 25 €\, ja se sisältää bussikuljetuksen\, pääsymaksut ja opastukset. Ei-jäseniltä hinta on 35 €. Maksu Algarven Suomi-Seuran tilille IBAN: PT50 0033 0000 0007 8287 8280 5. Lounaan jokainen maksaa itse suoraan ravintolaan. \nViimeinen maksu- ja ilmoittautumispäivä on 20.2. Ilmoittautuminen oheisella kaavakkeella (lähtijämäärä on täynnä\, joten ilmoittautumisia ei enää oteta vastaan). Huom. pariskunnat eivät voi ilmoittautua samalla kaavakkeella\, vaan jokaisen on täytettävä oma kaavake. Muista täyttää myös kaikki yhteystiedot. \nKorkkitehtaan ulkovarastoa\nTehtaalla työstetään korkki eri tarkoituksiin\n  \n 
URL:https://algarvensuomiseura.fi/tapahtuma/korkkiretki/
LOCATION:Eco-Fábrica de Cortiça Francisco Carrusca\, Sitio da Mesquita Baixa\, São Brás de Alportel\, Portugal
END:VEVENT
END:VCALENDAR